BEGIN:VCALENDAR
VERSION:2.0
PRODID:-//AudioTheme 3.0.2
BEGIN:VEVENT
UID:urn:uuid:55f2d95d-3154-4740-abd7-45c871c8a081
URL:https://agemono.ski/shows/grand-maison-oreno%e3%80%9cdinner-live%e3%80%9c-3/
DTSTART;TZID=GMT:20220619T090000
SUMMARY:Grand Maison ORENO〜Dinner Live〜
DESCRIPTION:BGM出演18:00-18:40 / SHOW出演19:40-20:00  フルート：日野真奈美
LOCATION:Grand Maison ORENO\, 東京都千代田区大手町1-7-2　東京サンケイビル B2F\, 千代田区\, 東京都
END:VEVENT
END:VCALENDAR
